BEGIN:VCALENDAR
VERSION:2.0
PRODID:-//Inkyfingers Shop
CALSCALE:GREGORIAN
METHOD:PUBLISH
X-WR-CALNAME:Inkyfingers Shop
X-ORIGINAL-URL:https://shop.inkyfingers.ca/product/christmas-cardmaking-mega-class-2025/
X-WR-CALDESC:Christmas Cardmaking Mega Class
BEGIN:VEVENT
DTSTART;TZID=America/Denver:20251101T100000
DTEND;TZID=America/Denver:20251101T160000
SUMMARY:Christmas Cardmaking Mega Class
DESCRIPTION:Make twelve cards (2 each of 6 designs) and kick off your holiday crafting!
URL:https://shop.inkyfingers.ca/product/christmas-cardmaking-mega-class-2025/
LOCATION:Kin Hut, 2730 Departure Bay Road, Nanaimo
END:VEVENT
END:VCALENDAR
