BEGIN:VCALENDAR
VERSION:2.0
PRODID:-//Inkyfingers Shop
CALSCALE:GREGORIAN
METHOD:PUBLISH
X-WR-CALNAME:Inkyfingers Shop
X-ORIGINAL-URL:https://shop.inkyfingers.ca/product/0226_evening/
X-WR-CALDESC:February Cardmaking Class (evening)
BEGIN:VEVENT
DTSTART;TZID=America/Denver:20260224T190000
DTEND;TZID=America/Denver:20260224T213000
SUMMARY:February Cardmaking Class (evening)
DESCRIPTION:Use current Stampin’ Up! products to make three terrific cards!
URL:https://shop.inkyfingers.ca/product/0226_evening/
LOCATION:362 Cambie Road, Nanaimo
END:VEVENT
END:VCALENDAR
