BEGIN:VCALENDAR
VERSION:2.0
PRODID:-//Inkyfingers Shop
CALSCALE:GREGORIAN
METHOD:PUBLISH
X-WR-CALNAME:Inkyfingers Shop
X-ORIGINAL-URL:https://shop.inkyfingers.ca/product/march-cardmaking-class-morning/
X-WR-CALDESC:March Cardmaking Class (morning)
BEGIN:VEVENT
DTSTART;TZID=America/Denver:20260316T100000
DTEND;TZID=America/Denver:20260316T120000
SUMMARY:March Cardmaking Class (morning)
DESCRIPTION:Use current Stampin’ Up! products to make three terrific cards!
URL:https://shop.inkyfingers.ca/product/march-cardmaking-class-morning/
LOCATION:362 Cambie Road, Nanaimo
END:VEVENT
END:VCALENDAR
