BEGIN:VCALENDAR
VERSION:2.0
PRODID:-//Inkyfingers Shop
CALSCALE:GREGORIAN
METHOD:PUBLISH
X-WR-CALNAME:Inkyfingers Shop
X-ORIGINAL-URL:https://shop.inkyfingers.ca/product/oct2024intro/
X-WR-CALDESC:Introduction to Stamping
BEGIN:VEVENT
DTSTART;TZID=America/Denver:20241016T193000
DTEND;TZID=America/Denver:20241016T203000
SUMMARY:Introduction to Stamping
DESCRIPTION:Learn the basic tools and techniques so that you'll feel at home in any stamping class!
URL:https://shop.inkyfingers.ca/product/oct2024intro/
LOCATION:362 Cambie Road, Nanaimo
END:VEVENT
END:VCALENDAR
